BEGIN:VCALENDAR
VERSION:2.0
PRODID:-//Keweenaw Dark Sky Park - ECPv6.15.16.1//NONSGML v1.0//EN
CALSCALE:GREGORIAN
METHOD:PUBLISH
X-ORIGINAL-URL:http://keweenawdarksky.com
X-WR-CALDESC:Events for Keweenaw Dark Sky Park
REFRESH-INTERVAL;VALUE=DURATION:PT1H
X-Robots-Tag:noindex
X-PUBLISHED-TTL:PT1H
BEGIN:VTIMEZONE
TZID:America/Detroit
BEGIN:DAYLIGHT
TZOFFSETFROM:-0500
TZOFFSETTO:-0400
TZNAME:EDT
DTSTART:20220313T070000
END:DAYLIGHT
BEGIN:STANDARD
TZOFFSETFROM:-0400
TZOFFSETTO:-0500
TZNAME:EST
DTSTART:20221106T060000
END:STANDARD
BEGIN:DAYLIGHT
TZOFFSETFROM:-0500
TZOFFSETTO:-0400
TZNAME:EDT
DTSTART:20230312T070000
END:DAYLIGHT
BEGIN:STANDARD
TZOFFSETFROM:-0400
TZOFFSETTO:-0500
TZNAME:EST
DTSTART:20231105T060000
END:STANDARD
BEGIN:DAYLIGHT
TZOFFSETFROM:-0500
TZOFFSETTO:-0400
TZNAME:EDT
DTSTART:20240310T070000
END:DAYLIGHT
BEGIN:STANDARD
TZOFFSETFROM:-0400
TZOFFSETTO:-0500
TZNAME:EST
DTSTART:20241103T060000
END:STANDARD
END:VTIMEZONE
BEGIN:VEVENT
DTSTART;TZID=America/Detroit:20230218T200000
DTEND;TZID=America/Detroit:20230218T223000
DTSTAMP:20260425T204613
CREATED:20230517T120917Z
LAST-MODIFIED:20230517T120917Z
UID:371-1676750400-1676759400@keweenawdarksky.com
SUMMARY:Stargazing: Northern Lights Photography Workshop
DESCRIPTION:[ Read: February 18\, 2023: Northern Lights Photography Workshop Recap ]\nAbout the Workshop\nThe purpose of this workshop is to educate people on how to capture the beauty of the northern lights and the night sky on camera. Topics being covered include equipment needed\, camera settings\, and the best locations for viewing. These workshops will start out with a brief powerpoint presentation (in the conference room)\, and then we will go outside for hands-on experience — taking pictures of the night time sky (hopefully northern lights) around the Lodge property (weather depending). With the information garnered from the workshop\, it will make stargazing more enjoyable. \nPlease bring your camera\, a tripod (if you have one)\, warm clothing\, and a great attitude. \n \nPrice\nFree for Lodge guests\, $75 for non-Lodge guests. \nReservations are required. Space is limited\, so you will want to register early to reserve your spot. To reserve your spot\, please call (906-289-4403 ext 4) or email outdoor-activities@keweenawresort.com. \nLocation\nYou meet at the Banquet Room at the Keweenaw Mountain Lodge at 8:00pm\, and the session will last about 2 hours. \nAbout the Instructor: Nate Bett\nNathan Bett is a photographer and educator in Hancock Michigan. Although originally from Marquette\, Michigan\, Nathan recently relocated to Hancock from New York City\, where he taught at the City University Of New York\, and represented a major camera manufacturer as a technical specialist in photography. He now spends his time indulging in the over abundance of natural beauty in his native UP and spending excesses of time outdoors with his family. Nathan maintains a passion for photography and the outdoors that he delights in sharing with students. His work can be viewed at nathanbett.com and @natebett and @artmonstermedia on Instagram.
URL:http://keweenawdarksky.com/calendar/stargazing-northern-lights-photography-workshop/
LOCATION:MI
END:VEVENT
END:VCALENDAR