BEGIN:VCALENDAR
VERSION:2.0
PRODID:-//Keweenaw Dark Sky Park - ECPv6.15.16.1//NONSGML v1.0//EN
CALSCALE:GREGORIAN
METHOD:PUBLISH
X-WR-CALNAME:Keweenaw Dark Sky Park
X-ORIGINAL-URL:http://keweenawdarksky.com
X-WR-CALDESC:Events for Keweenaw Dark Sky Park
REFRESH-INTERVAL;VALUE=DURATION:PT1H
X-Robots-Tag:noindex
X-PUBLISHED-TTL:PT1H
BEGIN:VTIMEZONE
TZID:America/Detroit
BEGIN:DAYLIGHT
TZOFFSETFROM:-0500
TZOFFSETTO:-0400
TZNAME:EDT
DTSTART:20210314T070000
END:DAYLIGHT
BEGIN:STANDARD
TZOFFSETFROM:-0400
TZOFFSETTO:-0500
TZNAME:EST
DTSTART:20211107T060000
END:STANDARD
BEGIN:DAYLIGHT
TZOFFSETFROM:-0500
TZOFFSETTO:-0400
TZNAME:EDT
DTSTART:20220313T070000
END:DAYLIGHT
BEGIN:STANDARD
TZOFFSETFROM:-0400
TZOFFSETTO:-0500
TZNAME:EST
DTSTART:20221106T060000
END:STANDARD
BEGIN:DAYLIGHT
TZOFFSETFROM:-0500
TZOFFSETTO:-0400
TZNAME:EDT
DTSTART:20230312T070000
END:DAYLIGHT
BEGIN:STANDARD
TZOFFSETFROM:-0400
TZOFFSETTO:-0500
TZNAME:EST
DTSTART:20231105T060000
END:STANDARD
END:VTIMEZONE
BEGIN:VEVENT
DTSTART;TZID=America/Detroit:20221217T143000
DTEND;TZID=America/Detroit:20221217T163000
DTSTAMP:20260423T203343
CREATED:20221022T172512Z
LAST-MODIFIED:20221022T172556Z
UID:123-1671287400-1671294600@keweenawdarksky.com
SUMMARY:Night Sky Photography Workshop
DESCRIPTION:About the Workshop\nThe purpose of this workshop is to educate people on how to capture the beauty of the the night sky on camera. Topics being covered include equipment needed\, camera settings\, and the best locations for viewing. These workshops will start out with a brief presentation (in the conference room)\, and then we will go outside for hands-on experience — taking pictures of the night time sky (hopefully the milky way or the northern lights) around the Lodge property (weather depending). With the information garnered from the workshop\, it will make stargazing more enjoyable. \n\nPrice\nFree for Lodge guests\, $75 for non-Lodge guests. \nReservations are required. Space is limited\, so you will want to register early to reserve your spot. To reserve your spot\, please call (906-289-4403 ext 2) or email events@keweenawresort.com. \nLocation\nYou meet at the Conference Center at the Keweenaw Mountain Lodge between 7:00pm and 7:30pm. The session will last about 2 hours  – possibly more if participants would like to spend more time with guided practice. \nAbout the Instructor: Nate Bett\nNathan Bett is a photographer and educator in Hancock Michigan. Although originally from Marquette\, Michigan\, Nathan recently relocated to Hancock from New York City\, where he taught at the City University Of New York\, and represented a major camera manufacturer as a technical specialist in photography. He now spends his time indulging in the over abundance of natural beauty in his native UP and spending excesses of time outdoors with his family. Nathan maintains a passion for photography and the outdoors that he delights in sharing with students. His work can be viewed at nathanbett.com and @natebett and @artmonstermedia on Instagram.
URL:http://keweenawdarksky.com/calendar/stargazing-night-sky-photography-workshop-3/
LOCATION:MI
END:VEVENT
BEGIN:VEVENT
DTSTART;TZID=America/Detroit:20221119T143000
DTEND;TZID=America/Detroit:20221119T163000
DTSTAMP:20260423T203343
CREATED:20221022T172439Z
LAST-MODIFIED:20221112T211321Z
UID:121-1668868200-1668875400@keweenawdarksky.com
SUMMARY:Night Sky Photography Workshop
DESCRIPTION:About the Workshop\nThe purpose of this workshop is to educate people on how to capture the beauty of the the night sky on camera. Topics being covered include equipment needed\, camera settings\, and the best locations for viewing. These workshops will start out with a brief presentation (in the conference room)\, and then we will go outside for hands-on experience — taking pictures of the night time sky (hopefully the milky way or the northern lights) around the Lodge property (weather depending). With the information garnered from the workshop\, it will make stargazing more enjoyable. \n\nPrice\nFree for Lodge guests\, $75 for non-Lodge guests. \nReservations are required. Space is limited\, so you will want to register early to reserve your spot. To reserve your spot\, please call (906-289-4403 ext 2) or email events@keweenawresort.com. \nLocation\nYou meet at the Banquet Room at the Keweenaw Mountain Lodge between 7:00pm and 7:30pm. The session will last about 2 hours  – possibly more if participants would like to spend more time with guided practice. \nAbout the Instructor: Tom Oliver\nTom Oliver is an avid photographer of wildlife and landscapes\, including dark skies and northern lights.  Since he was a child\, nature\, wildlife\, and the outdoors have always been his deepest fascination – the intrinsic force which drives him. Those interests led him through\, both\, his career (in wildlife ecology/management and science education) and his preferred forms of recreation (hiking\, backpacking\, canoeing and kayaking\, photography\, hunting and fishing\, and birding). Although\, he was born and raised in the UP\, these pursuits also provided me the opportunity to live overseas (in Europe and Asia) for 15 years\, which greatly expanded my experience with the outdoors and outdoor recreation in different cultures.   \nTom maintains a passion for photography and the outdoors that he delights in sharing with students. His photography work can be viewed at teoliver.com and @theupwell on Instagram.
URL:http://keweenawdarksky.com/calendar/stargazing-night-sky-photography-workshop-2/
LOCATION:MI
END:VEVENT
BEGIN:VEVENT
DTSTART;TZID=America/Detroit:20221103T140000
DTEND;TZID=America/Detroit:20221103T153000
DTSTAMP:20260423T203343
CREATED:20221022T172143Z
LAST-MODIFIED:20221031T205805Z
UID:119-1667484000-1667489400@keweenawdarksky.com
SUMMARY:Dark Sky Light Management Workshop
DESCRIPTION:About the Workshop\nThe purpose of this workshop is to educate people on the best practices of light management for enjoying the dark skies and for stargazing activities. The workshop will cover the lighting activities we have been working on at the Keweenaw Mountain Lodge to be dark-sky compliant per the International Dark-Sky Association’s lighting guidelines. As part of the workshop you will be able to learn how you can improve your lighting as it relates to dark sky initiatives. \nWe will also walk through the International Dark Sky Park application we have submitted to the International Dark-Sky Association\, and the current status of the application. \n \nPrice\nFree\, open to the public. \nLocation\nYou meet at the Banquet Room at the Keweenaw Mountain Lodge at 6:00pm. \nIf you can’t make it in person\, join online: \nComputer\, link: https://meet.google.com/kye-rgsh-uyp\, or\nPhone\, dial: ‪(US) +1 386-516-3742‬ PIN: ‪706 229 329‬# \nAbout the Instructor: John Mueller\nJohn is the interim General Manager at the Lodge\, and spearheaded the Lodge’s International Dark Sky Park application. He is intimately involved with implementing dark sky park initiatives at the Lodge\, including the light management. \n 
URL:http://keweenawdarksky.com/calendar/stargazing-dark-sky-light-management-workshop/
LOCATION:MI
END:VEVENT
BEGIN:VEVENT
DTSTART;TZID=America/Detroit:20221021T153000
DTEND;TZID=America/Detroit:20221021T173000
DTSTAMP:20260423T203343
CREATED:20221022T171746Z
LAST-MODIFIED:20221022T171746Z
UID:110-1666366200-1666373400@keweenawdarksky.com
SUMMARY:Stargazing: Night Sky Photography Workshop
DESCRIPTION:About the Workshop\nThe purpose of this workshop is to educate people on how to capture the beauty of the the night sky on camera. Topics being covered include equipment needed\, camera settings\, and the best locations for viewing. These workshops will start out with a brief presentation (in the conference room)\, and then we will go outside for hands-on experience — taking pictures of the night time sky (hopefully the milky way or the northern lights) around the Lodge property (weather depending). With the information garnered from the workshop\, it will make stargazing more enjoyable. \n\nPrice\nFree for Lodge guests\, $75 for non-Lodge guests. \nReservations are required. Space is limited\, so you will want to register early to reserve your spot. To reserve your spot\, please call (906-289-4403 ext 2) or email events@keweenawresort.com. \nLocation\nYou meet at the Banquet Room at the Keweenaw Mountain Lodge between 7:00pm and 7:30pm. The session will last about 2 hours  – possibly more if participants would like to spend more time with guided practice. \nAbout the Instructor: Tom Oliver\nTom Oliver is an avid photographer of wildlife and landscapes\, including dark skies and northern lights.  Since he was a child\, nature\, wildlife\, and the outdoors have always been his deepest fascination – the intrinsic force which drives him. Those interests led him through\, both\, his career (in wildlife ecology/management and science education) and his preferred forms of recreation (hiking\, backpacking\, canoeing and kayaking\, photography\, hunting and fishing\, and birding). Although\, he was born and raised in the UP\, these pursuits also provided me the opportunity to live overseas (in Europe and Asia) for 15 years\, which greatly expanded my experience with the outdoors and outdoor recreation in different cultures.   \nTom maintains a passion for photography and the outdoors that he delights in sharing with students. His photography work can be viewed at teoliver.com and @theupwell on Instagram.
URL:http://keweenawdarksky.com/calendar/stargazing-night-sky-photography-workshop/
LOCATION:MI
END:VEVENT
END:VCALENDAR