BEGIN:VCALENDAR
VERSION:2.0
PRODID:-//Keweenaw Dark Sky Park - ECPv6.15.16.1//NONSGML v1.0//EN
CALSCALE:GREGORIAN
METHOD:PUBLISH
X-WR-CALNAME:Keweenaw Dark Sky Park
X-ORIGINAL-URL:http://keweenawdarksky.com
X-WR-CALDESC:Events for Keweenaw Dark Sky Park
REFRESH-INTERVAL;VALUE=DURATION:PT1H
X-Robots-Tag:noindex
X-PUBLISHED-TTL:PT1H
BEGIN:VTIMEZONE
TZID:America/Detroit
BEGIN:DAYLIGHT
TZOFFSETFROM:-0500
TZOFFSETTO:-0400
TZNAME:EDT
DTSTART:20220313T070000
END:DAYLIGHT
BEGIN:STANDARD
TZOFFSETFROM:-0400
TZOFFSETTO:-0500
TZNAME:EST
DTSTART:20221106T060000
END:STANDARD
BEGIN:DAYLIGHT
TZOFFSETFROM:-0500
TZOFFSETTO:-0400
TZNAME:EDT
DTSTART:20230312T070000
END:DAYLIGHT
BEGIN:STANDARD
TZOFFSETFROM:-0400
TZOFFSETTO:-0500
TZNAME:EST
DTSTART:20231105T060000
END:STANDARD
BEGIN:DAYLIGHT
TZOFFSETFROM:-0500
TZOFFSETTO:-0400
TZNAME:EDT
DTSTART:20240310T070000
END:DAYLIGHT
BEGIN:STANDARD
TZOFFSETFROM:-0400
TZOFFSETTO:-0500
TZNAME:EST
DTSTART:20241103T060000
END:STANDARD
END:VTIMEZONE
BEGIN:VEVENT
DTSTART;VALUE=DATE:20230415
DTEND;VALUE=DATE:20230423
DTSTAMP:20260425T190615
CREATED:20230217T193821Z
LAST-MODIFIED:20230330T160049Z
UID:222-1681516800-1682207999@keweenawdarksky.com
SUMMARY:International Dark Sky Week
DESCRIPTION:This is the calendar of event page for the 2023 International Dark Sky Week.
URL:http://keweenawdarksky.com/calendar/keweenaw-dark-sky-week/
LOCATION:MI
END:VEVENT
END:VCALENDAR